BEGIN:VCALENDAR
VERSION:2.0
PRODID:-//Tukios.com/
BEGIN:VEVENT
UID:d29239cc-df43-4cd9-9b34-056d6b385895@www.fredendallfuneralhome.com
DTSTAMP:20260421T200611Z
DTSTART:20260424T150000Z
DTEND:20260424T170000Z
SUMMARY:Visitation for Marjorie L. Shultes
DESCRIPTION:
URL:https://www.fredendallfuneralhome.com/obituaries/marjorie-shultes
LOCATION:Berne Reformed Church 1663 Helderberg Trail  Berne NY 12023
GEO:42.6242676;-74.1361939
END:VEVENT
END:VCALENDAR