BEGIN:VCALENDAR
VERSION:2.0
PRODID:-//Tukios.com/
BEGIN:VEVENT
UID:62166cca-5ed1-442a-b42b-529573cdc72c@www.fredendallfuneralhome.com
DTSTAMP:20260421T200405Z
DTSTART:20260424T181500Z
DTEND:20260424T191500Z
SUMMARY:Interment for Marjorie L. Shultes
DESCRIPTION:
URL:https://www.fredendallfuneralhome.com/obituaries/marjorie-shultes
LOCATION:Woodlawn Cemetery 1820 Helderberg Trail  Berne NY 12023
GEO:42.625882;-74.149695
END:VEVENT
END:VCALENDAR