BEGIN:VCALENDAR
VERSION:2.0
PRODID:-//Tukios.com/
BEGIN:VEVENT
UID:51c95016-7813-4499-a910-b602cf5873c5@www.fredendallfuneralhome.com
DTSTAMP:20260421T200810Z
DTSTART:20260424T170000Z
DTEND:20260424T180000Z
SUMMARY:Funeral Service for Marjorie L. Shultes
DESCRIPTION:
URL:https://www.fredendallfuneralhome.com/obituaries/marjorie-shultes
LOCATION:Berne Reformed Church 1663 Helderberg Trail  Berne NY 12023
GEO:42.6242676;-74.1361939
END:VEVENT
END:VCALENDAR